BEGIN:VCALENDAR
VERSION:2.0
PRODID:-//EGLCC - ECPv6.14.2//NONSGML v1.0//EN
CALSCALE:GREGORIAN
METHOD:PUBLISH
X-WR-CALNAME:EGLCC
X-ORIGINAL-URL:https://www.eglcc.eu/it/
X-WR-CALDESC:Eventi per EGLCC
REFRESH-INTERVAL;VALUE=DURATION:PT1H
X-Robots-Tag:noindex
X-PUBLISHED-TTL:PT1H
BEGIN:VTIMEZONE
TZID:Europe/Berlin
BEGIN:DAYLIGHT
TZOFFSETFROM:+0100
TZOFFSETTO:+0200
TZNAME:CEST
DTSTART:20200329T010000
END:DAYLIGHT
BEGIN:STANDARD
TZOFFSETFROM:+0200
TZOFFSETTO:+0100
TZNAME:CET
DTSTART:20201025T010000
END:STANDARD
BEGIN:DAYLIGHT
TZOFFSETFROM:+0100
TZOFFSETTO:+0200
TZNAME:CEST
DTSTART:20210328T010000
END:DAYLIGHT
BEGIN:STANDARD
TZOFFSETFROM:+0200
TZOFFSETTO:+0100
TZNAME:CET
DTSTART:20211031T010000
END:STANDARD
BEGIN:DAYLIGHT
TZOFFSETFROM:+0100
TZOFFSETTO:+0200
TZNAME:CEST
DTSTART:20220327T010000
END:DAYLIGHT
BEGIN:STANDARD
TZOFFSETFROM:+0200
TZOFFSETTO:+0100
TZNAME:CET
DTSTART:20221030T010000
END:STANDARD
END:VTIMEZONE
BEGIN:VEVENT
DTSTART;TZID=Europe/Berlin:20220316T163000
DTEND;TZID=Europe/Berlin:20220316T200000
DTSTAMP:20260426T055914
CREATED:20220303T095609Z
LAST-MODIFIED:20220303T095609Z
UID:4119-1647448200-1647460800@www.eglcc.eu
SUMMARY:LGBTQ as a Business Model (HBTQ som affärsmodell)
DESCRIPTION:Join SGLCC in Malmö for an afterwork event on March 16. We have a number of speakers sharing their experiences on LGBT inclusion\, but also provide plenty of time for networking and mingle in a relaxed setting. \nSpeakers inlcude\, Peter Dahlén CEO AmCham Sweden\, Eric LaFleche\, CEO Siemens HealthEngineers\, Micael Nord\, Head Business Development City of Malmö\, Catarina Piper\, Partner\, Moll Wenden Law. For details and full speakers list\, please visit SGLCC.eu or follow the registration link below.
URL:https://www.eglcc.eu/it/event/lgbtq-as-a-business-model-hbtq-som-affarsmodell/
LOCATION:Randstad\, Styrmansgatan 2\, 211 18 Malmö\, Sweden\, Randstad\, Styrmansgatan 2\, Malmö\, 21118\, Sweden
ORGANIZER;CN="SGLCC":MAILTO:info@sglcc.eu
END:VEVENT
BEGIN:VEVENT
DTSTART;TZID=Europe/Berlin:20220126T160000
DTEND;TZID=Europe/Berlin:20220126T163000
DTSTAMP:20260426T055914
CREATED:20211104T162928Z
LAST-MODIFIED:20211104T162928Z
UID:3739-1643212800-1643214600@www.eglcc.eu
SUMMARY:LGBT+ Locally and Internationally
DESCRIPTION:How can we best use our local connections and experiences in other regions of operations\, and how do we perform continous quality control and reviews of the inclusion process? \nSpeakers: To be announced
URL:https://www.eglcc.eu/it/event/lgbt-locally-and-internationally/
LOCATION:tba.\, Malmö\, Sweden
ORGANIZER;CN="SGLCC":MAILTO:info@sglcc.eu
END:VEVENT
BEGIN:VEVENT
DTSTART;TZID=Europe/Berlin:20211208T170000
DTEND;TZID=Europe/Berlin:20211208T190000
DTSTAMP:20260426T055914
CREATED:20211104T162641Z
LAST-MODIFIED:20211104T162641Z
UID:3735-1638982800-1638990000@www.eglcc.eu
SUMMARY:LGBT+ Business Owners' Network Mingle
DESCRIPTION:Get to know our LGBT+ entrepeneurs in a relaxed setting and explore how you can take your business to the next level.
URL:https://www.eglcc.eu/it/event/lgbt-business-owners-network-mingle/
LOCATION:Belgobaren Bakfickan\, Rådmansgatan 67\, Stockholm\, Sweden
ORGANIZER;CN="SGLCC":MAILTO:info@sglcc.eu
END:VEVENT
BEGIN:VEVENT
DTSTART;TZID=Europe/Berlin:20211201T163000
DTEND;TZID=Europe/Berlin:20211201T183000
DTSTAMP:20260426T055914
CREATED:20211104T161747Z
LAST-MODIFIED:20211104T161747Z
UID:3724-1638376200-1638383400@www.eglcc.eu
SUMMARY:LGBT+ Inclusion is good for business - but what works best for your company?
DESCRIPTION:This event is hosted by SGLCC Sweden. \n  \nJoin the SGLCC and interact on the various ways of implementing LGBT+ inclusion in business. \nSpeakers: \n\nAxel Johansson\, Mayor of Gothenburg\nSofia Klingberg\, Head of D&I Afry\nPeter Dahlen\, CEO AmCham\nPaul Lukes\, CEO Clarion Post\nJasmin Aronson\, People and Culture\, Volvo Cars\nMartin Sjögren\, Head PA Randstad\nTobias Holfelt\, SGLCC
URL:https://www.eglcc.eu/it/event/lgbt-inclusion-is-good-for-business-but-what-works-best-for-your-company/
LOCATION:Offline\, Hamngatan 35\, Göteborg\, Sweden
ORGANIZER;CN="SGLCC":MAILTO:info@sglcc.eu
END:VEVENT
BEGIN:VEVENT
DTSTART;TZID=Europe/Berlin:20211116T160000
DTEND;TZID=Europe/Berlin:20211116T180000
DTSTAMP:20260426T055914
CREATED:20211101T120631Z
LAST-MODIFIED:20211101T120631Z
UID:3615-1637078400-1637085600@www.eglcc.eu
SUMMARY:LGBTIQ+ from the 360° Perspective
DESCRIPTION:Note: The event takes place in German language only. \n \n  \nThis free panel discussion is brought to you by the Germany LGBTIQ Chamber of Commerce (GGLBC)\, Wirtschaftsweiber and the City of Cologne. \nWhich importance do diverse businesses have for the local and global supply chains? How do LGBTIQ businesses contribute to creating a discrimination-free workplace environment and to increasing lesbian visibility? \nLearn more about the role of the LGBTIQ+ Community in the business generally and concretely in the Cologne region. \nAfter the opening remarks of the mayor of the city of Cologne\, Henriette Reker\, you can look forward to the panel discussion with: \n\nFabienne Stordiau\, Co-Founder of the GGLBC\, the German LGBTIQ Chamber of Commerce\nDr. Jean-Luc Vey\, Co-Founder of the Prout at Work Foundation\nWolfgang Schwarz-Heim\, LGBTIQ Rhen-Ruhr Netzwerk\nMarion Koch\, Partner of the ITLOGWARE GmbH\nRepresentative tba.\, Unilever\n\nRegister for free under: www.wirtschaftsweiber-meet-gglbc.de \n 
URL:https://www.eglcc.eu/it/event/lgbtiq-from-the-360-perspective/
LOCATION:Online
ORGANIZER;CN="GGLBC":MAILTO:info@gglbc.de
END:VEVENT
BEGIN:VEVENT
DTSTART;TZID=Europe/Berlin:20211105T153000
DTEND;TZID=Europe/Berlin:20211105T163000
DTSTAMP:20260426T055914
CREATED:20211101T125542Z
LAST-MODIFIED:20211101T125542Z
UID:3623-1636126200-1636129800@www.eglcc.eu
SUMMARY:From Field to Table: Diversity\, Equity & Inclusion in Barilla
DESCRIPTION:We invite you on behalf of the organizers for this online panel discussion in English (with Italian translation). \n \nJoin the experts talk about supplier diversity progams and the example of the Barilla’s Global Supplier Diversity and Inclusion program that since 2017 takes company on a journey of cultural change\, including minorities\, women\, LGBT+ people and people with disabilities and their small / medium-sized businesses into Barilla’s supply chain.
URL:https://www.eglcc.eu/it/event/from-field-to-table-diversity-equity-inclusion-in-barilla/
LOCATION:Online
END:VEVENT
BEGIN:VEVENT
DTSTART;TZID=Europe/Berlin:20210923T180000
DTEND;TZID=Europe/Berlin:20210923T193000
DTSTAMP:20260426T055914
CREATED:20210903T115246Z
LAST-MODIFIED:20210903T115304Z
UID:3305-1632420000-1632425400@www.eglcc.eu
SUMMARY:Supplier Diversity: Dare to Care - Why Coming Out In Business Needs Your Support
DESCRIPTION:This free webinar is brought to you by the CIPS Switzerland branch and is for CIPS members and non-members to attend. Your information will be passed to the organising branch members in order to run the webinar. \n \n  \nThis webinar will cover the following: \n\nWhat is the role of the EGLCC\, its objectives and the work (beyond supplier diversity)?\nWhy is it important to have a LGBTIQ Chambers of Commerce?\nWho are the members of the EGLCC?\nWhat are the main barriers to promote LGBTIQ business in Europe today?\nWhy to engage LGBTIQ suppliers? What are the business advantages and why it is important for a social change?\nHow can procurement managers “tap” into the opportunities of engaging with LGBTIQ businesses?\nWhat are the criteria to be considered LGBTIQ business (EGLCC registration and certification criteria)\nBeyond supplier diversity – how can procurement functions benefit from a diverse team set-up? Why is it important to setup and engage LGBTIQ ERGs?\n\n\nDuring the event\, the panellists will answer questions from the facilitator about: \n\nThe reality of supplier diversity strategies and practices in Europe\nWhat are the benefits\, challenges and sometimes conflicting targets involved in implementing a supplier diversity programmes\nWhat are the specifics of LGBTIQ diverse businesses (are there any?)\nHow to start a supplier diversity programme (in your company)
URL:https://www.eglcc.eu/it/event/supplier-diversity-dare-to-care-why-coming-out-in-business-needs-your-support/
LOCATION:Online
ORGANIZER;CN="EGLCC":MAILTO:Info@eglcc.eu
END:VEVENT
BEGIN:VEVENT
DTSTART;TZID=Europe/Berlin:20210818T150000
DTEND;TZID=Europe/Berlin:20210818T163000
DTSTAMP:20260426T055914
CREATED:20210811T034203Z
LAST-MODIFIED:20210811T034909Z
UID:3255-1629298800-1629304200@www.eglcc.eu
SUMMARY:East meets West 2021 World Pride Workshop
DESCRIPTION:Central & Eastern Europe: A different Reality?\nEast meets West together with Pride Business Forum (CZ) is hosing a hybrid event within 2021 World Pride. \n    \nThe Central & East European (CEE) region is often treated in discussions about Human Rights and Diversity & Inclusion (D&I) as an outsider. The negative LGBTIQ news that reaches us from this part of Europe has certainly not helped to change this perception. We want to share with you a different picture of D&I in this region\, a picture of dynamic and successful NGO’s that\, with the help of a young population and the support of the business world\, are gradually changing the existing homophobic status into an open and diverse society. We bring on stage a great mix of countries as well with corporates as with NGOs. Join us to hear insights and practical good examples from the Czech Republic\, Hungary\, Bosnia & Herzegovina and Russia. \nFor more information to to: https://copenhagen2021.com/human-rights/workplace-inclusion-day/sphere-session-7-east-meets-west-prague-pride/
URL:https://www.eglcc.eu/it/event/east-meets-west-2021-world-pride-workshop/
LOCATION:World Pride 2021 Copenhagen & ONLINE\, Copenhagen\, Denmark
ORGANIZER;CN="East meets West":MAILTO:info@eastmeetswest.eu
END:VEVENT
BEGIN:VEVENT
DTSTART;TZID=Europe/Berlin:20210818T113000
DTEND;TZID=Europe/Berlin:20210818T124500
DTSTAMP:20260426T055914
CREATED:20210811T034804Z
LAST-MODIFIED:20210811T034841Z
UID:3267-1629286200-1629290700@www.eglcc.eu
SUMMARY:EGLCC 2021 World Pride Workshop
DESCRIPTION:How Can an LGBTIQ Chamber of Commerce help to increase social inclusion and foster Entrepreneurship?\nEGLCC with its member chambers is hosing a hybrid event within 2021 World Pride: \nLGBTIQ Business Chambers play an important role for LGBTIQ businesses and the entrepreneurship within the community. We provide insights from regional and national chambers in Europe\, from a Scandinavian perspectice\, SGLCC outwards in Europe and we showcase how a common platform\, EGLCC\, work on Supplier diversity\, and how your business can stand to benefit. \nFor more information go to: https://copenhagen2021.com/human-rights/workplace-inclusion-day/sphere-session-3-sglcc-eglcc/
URL:https://www.eglcc.eu/it/event/eglcc-2021-world-pride-workshop/
LOCATION:World Pride 2021 Copenhagen & ONLINE\, Copenhagen\, Denmark
ORGANIZER;CN="EGLCC":MAILTO:Info@eglcc.eu
END:VEVENT
BEGIN:VEVENT
DTSTART;TZID=Europe/Berlin:20210817T130000
DTEND;TZID=Europe/Berlin:20210817T170000
DTSTAMP:20260426T055914
CREATED:20210504T050904Z
LAST-MODIFIED:20210601T164354Z
UID:3131-1629205200-1629219600@www.eglcc.eu
SUMMARY:LGBTI+ Business Conference Scandinavia
DESCRIPTION:LGBTI+ Business Conference Scandinavia Theme:\nSustainable Diversity\n  \n\n\n\n \n\n\n\n\n\n  \nThere is a significant return on investment for private corporations that implements a sustainable diversity strategy. In order to be successful this need to be a credible\, long-term starchy in how these issues can best be implemented in the corporate business strategy\, in all parts of the business processes from talent acquisition to workplace inclusion\, innovation\, sales and supply-chains. This can also be tracked up to the owner-level\, by the stock-performance. \nSGLCC – Scandinavian LGBT Chamber of Commerce produce a screening of Scandinavian corporations\, and it show that some are well under way\, whereas others may need some more knowledge and understanding in order to develop further. \nThe current pandemic has caused severe stress to the business environment across the world. Some have had a very difficult time\, and some have done well. Over time\, certain areas will go back to pre- pandemic activities\, and others will come out with entirely new models and strategies. What has become evident is the need for the diversity and inclusion models to be resilient under stress as well as sustainable in order to be useful\, credible and deliver the intended outcome for the business at hand. \n\n\n\n\n\n  \nThe conference will be held at Malmö Town Hall\, Aug 17 2021 from 1-5 PM\, and is an annual event. It is our sincere hope that circumstances allow us to meet in person\, but we have also a virtual option. \n  \n\n\n\n\nMore information: www.lgbtibusinessforum.com / www.sglcc.eu
URL:https://www.eglcc.eu/it/event/lgbti-business-conference-scandinavia/
END:VEVENT
BEGIN:VEVENT
DTSTART;TZID=Europe/Berlin:20210617T100000
DTEND;TZID=Europe/Berlin:20210617T173000
DTSTAMP:20260426T055914
CREATED:20210504T050357Z
LAST-MODIFIED:20210511T220419Z
UID:3126-1623924000-1623951000@www.eglcc.eu
SUMMARY:7th International East meets West Conference
DESCRIPTION:RIDING THE WAVES OF CHANGE \n17th June 2021 \nTHE 7th INTERNATIONAL ONLINE EAST MEETS WEST CONFERENCE: \n \nFULL AGENDA: https://www.eastmeetswest.eu/2021conference \nREGISTRATIONS UNDER: https://eastmeetswest2021.eventbrite.com \n  \nWe used to live in a world that was perhaps not always peaceful but that was never in a complete turmoil. But this has changed and our LGBTIQ community\, as active player in society\, cannot ignore this reality. As we might not always be aware of what is exactly changing around us\, East meets West wants\, in the 2021 Conference\, to tackle this very challenging topic of ‘Change’ and ask the question how to ‘ride these waves of change‘. \nThe Changes are revealed in different ways. The LGBTIQ community in Central- and Eastern Europe has certainly undergone changes. So we will bring you an updated picture of the daily LGBTIQ reality in the different countries. As we also want to put a special focus on Poland and its challenged LGBTIQ community\, the 7th International East meets West Conference 2021 will be sourced from the Polish capital Warsaw. East meets West set-up a local Studio and will stream the Conference to audiences in the whole world. \nBut Changes have appeared also in our daily activities. Just consider the new ways of communication and the need to speak a different ‘language’ if we want to reach our communities. We read about the ‘New Normal’ but without knowing what it will mean for all of us. East meets West will present speakers and run discussions that will not only open your eyes for these changes\, but at the same time show you ways to adapt your existing approaches and become even more successful.
URL:https://www.eglcc.eu/it/event/7th-international-east-meets-west-conference/
LOCATION:Online
ORGANIZER;CN="East meets West":MAILTO:info@eastmeetswest.eu
END:VEVENT
BEGIN:VEVENT
DTSTART;VALUE=DATE:20201118
DTEND;VALUE=DATE:20201119
DTSTAMP:20260426T055914
CREATED:20201106T142844Z
LAST-MODIFIED:20201106T142844Z
UID:2472-1605657600-1605743999@www.eglcc.eu
SUMMARY:MERCK 2020 Global Business Opportunity Fair
DESCRIPTION:Being self-registered by the EGLCC\, the European LGBTIQ Chamber of Commerce\, is the passport for entering the scene of new\, yet untapped business opportunities. We are happy to invite self-registered LGBTIQ businesses to join MERCK 2020 Global Business Opportunity Fair which takes place on November 18th. \n \nDiversity is mission-critical for innovation and scientific excellence\, better decision-making and cultural agility\, which inherently yields MERCK’s competitive advantage. The 2020 MERCK Virtual Global Business Opportunity Fair offers on November 18th the opportunity for diverse suppliers to engage with Merck’s supply chain professionals in the following Global Regions: EMEAC – Europe\, Middle East\, Africa\, Canada / JCAP-Japan\, China\, Asia Pacific / LATAM – Latin America. \nNot registered yet by EGLCC? Do self-register or contact EGLCC under info@eglcc.eu.
URL:https://www.eglcc.eu/it/event/merck-2020-global-business-opportunity-fair/
LOCATION:Online
END:VEVENT
BEGIN:VEVENT
DTSTART;TZID=Europe/Berlin:20201111T140000
DTEND;TZID=Europe/Berlin:20201111T163000
DTSTAMP:20260426T055914
CREATED:20201021T054217Z
LAST-MODIFIED:20201105T075525Z
UID:2347-1605103200-1605112200@www.eglcc.eu
SUMMARY:11.11.2020 DiverseCity Online
DESCRIPTION:Erstmalig: DiverseCity als virtuelle Veranstaltung \nAm 11. November 2020 findet zum ersten Mal die erfolgreiche Diversity Management Veranstaltung DiverseCity im hybriden Format statt. Von 14:00 bis 16:30 kann jede_r online kostenfrei teilnehmen. \nThema:\nVoneinander lernen – Lebens- und Arbeitswelten von LGBT+ im internationalen Kontext \nDie Keynote hält Pavel Subrt (EGLCC – The European LGBTIQ Chamber of Commerce). Panelgäste sind Jana Hansjürgen (Diversitybeauftragte der Landeshauptstadt Düsseldorf)\, Małgorzata Mróz (Aktivistin)\, Miguel A. Castro (SAP)\, Kende Karskó (Bosch Magyarország) und Dr. Juliane Kronen (Right Livelihood Foundation). \nDurch das Programm führt der Vorstandsvorsitzende des Völklinger Kreis\, Matthias Weber. \nDie Veranstaltung wird durchgeführt vom Völklinger Kreis in Kooperation mit dem Gleichstellungsbüro Düsseldorf mit freundlicher Unterstützung durch Queeres Netzwerk NRW. \nSie wird gefördert vom Ministerium für Kinder\, Familie\, Flüchtlinge und Integration des Landes Nordrhein-Westfalen. \nMehr Infos nach dem Link: \nhttps://www.vk-online.de/module/neuigkeiten-allgemein/artikel/detail/erstmalig-diversity-management-kongress-diversecity-als-virtuelle-veranstaltung-224.html
URL:https://www.eglcc.eu/it/event/save-the-date-11-11-2020-diversecity-online/
LOCATION:Online
END:VEVENT
BEGIN:VEVENT
DTSTART;VALUE=DATE:20201111
DTEND;VALUE=DATE:20201112
DTSTAMP:20260426T055914
CREATED:20201027T164433Z
LAST-MODIFIED:20201027T164433Z
UID:2428-1605052800-1605139199@www.eglcc.eu
SUMMARY:SGLCC: Corporate Round Table on The economic case for LGBT Inclusion
DESCRIPTION:We welcome our partners to a Round Table discussion on the corporate value of LGBT inclusion in a safe and corona-free environment\, at the British Ambassadors Residence. \nIn Britain the LGBT market is estimated is more than 80 Billion Pounds annually. The Nordic countries alone constitute a potential 2.5 million consumers and more than EUR Bln 30 in net-value. LGBT inclusion is vital for corporations in order to access this market potential. In addition a strategic D&I program attracts better talents and improves the environment for innovation. Yet\, many corporations still have some way to go in order to integrate these issues in their business model to the full potential. Our Roundtable aims to provide a constructive dialogue and sharing of best practice examples. \nDue to restrictions this event is by special invitation only. Please contact SGLCC tobias@sglcc.eu.
URL:https://www.eglcc.eu/it/event/sglcc-corporate-round-table-on-the-economic-case-for-lgbt-inclusion/
ORGANIZER;CN="SGLCC":MAILTO:info@sglcc.eu
END:VEVENT
BEGIN:VEVENT
DTSTART;TZID=Europe/Berlin:20201012T180000
DTEND;TZID=Europe/Berlin:20201012T200000
DTSTAMP:20260426T055914
CREATED:20200814T140620Z
LAST-MODIFIED:20201015T131504Z
UID:1271-1602525600-1602532800@www.eglcc.eu
SUMMARY:GGLBC: COVID19 ein Langezeit-Thema für die queere Community?
DESCRIPTION:Welche Auswirkungen hat COVID-19 auf queer geführte Unternehmen\, Einzelselbständige\, Vereine\, Organisationen\, wie auch Firmen-Netzwerke und die LGBT+ Community selbst? Diese Frage stellte sich das virtuelle Event des QSN im Oktober. Pavel Subrt und Fabienne Stordiau stellten zunächst das GGLBC\, eine LGBT+ Handelskammer vor\, das Bindeglied zwischen Unternehmen und queer geführten Unternehmen und Suppliern sein und damit die queere Wirtschaft stärken will. Dem folgte ein bunt gemischtes Panel mit diversen Vertreter_innen der Berliner Community. Moderiert von Clemens Krebs\, entwickelte sich ein reger Austausch aus unterschiedlichsten Perspektiven: Angela Schmerfeld\, Olaf Möller (Regenbogenfonds e.V.)\, Viktor Nawrat (Allround Team GmbH)\, Lydia K. (Siemens PRIDE) und Rafael Nasemann (Volkswagen AG) -nachdrücklich wurde eine staatliche Unterstützung für die Club-/Bar-/Event/ Künstler_innen-Szene gefordert\, soll das bunte und diverse Kultur- und Nachtleben in Berlin erhalten bleiben\, Spenden seien unterstützend\, lösten aber die Probleme nicht. Event-und Medienagenturen hingegen\, die z.B. CSDs\, Stadtfeste begleiten\, verlören durch die Absagen ihre größten Aufträge und Auftraggeber. Interessante Einblicke\, die nachdenklich machten!
URL:https://www.eglcc.eu/it/event/gglbc_qsn_20201012/
ORGANIZER;CN="GGLBC":MAILTO:info@gglbc.de
END:VEVENT
BEGIN:VEVENT
DTSTART;TZID=Europe/Berlin:20201011T110000
DTEND;TZID=Europe/Berlin:20201011T120000
DTSTAMP:20260426T055914
CREATED:20200814T140703Z
LAST-MODIFIED:20201015T131523Z
UID:1274-1602414000-1602417600@www.eglcc.eu
SUMMARY:EmW: SPOTLIGHT SERIES #3 on CSR
DESCRIPTION:HAPPY NATIONAL COMING-OUT DAY! East meets West is back with their SPOTLIGHT SERIES and this time with something very very special! EmW brought on stage four international authorities who each of them was able to look at Corporate Social Responsibility from a specific\, very personal point of view – Adela Horakova\, Nikita Baranov (he/him)\, Fabrice C Houdart and Jens Schadendorf. This dynamic combination of people and ideas delivered what sometimes happens with a podcast\, it becomes an eruption of rich ideas\, surprising findings and inspirational guidelines\, going from another perspective on pink-washing to a surprisingly positive evaluation of the COVID19 pandemic for the future of the Corporate Social Responsibility\, certainly for our LGBTIQ community… \nThe recording is available on our youtube channel https://youtu.be/dLwhHQeQpKA but now newly also as a podcast on Soundcloud: https://soundcloud.com/user-14622893/east-meets-west-spotlight-series-3
URL:https://www.eglcc.eu/it/event/emw_spotlight_3/
ORGANIZER;CN="East meets West":MAILTO:info@eastmeetswest.eu
END:VEVENT
END:VCALENDAR