BEGIN:VCALENDAR
VERSION:2.0
PRODID:-//EGLCC - ECPv6.14.2//NONSGML v1.0//EN
CALSCALE:GREGORIAN
METHOD:PUBLISH
X-ORIGINAL-URL:https://www.eglcc.eu/it/
X-WR-CALDESC:Eventi per EGLCC
REFRESH-INTERVAL;VALUE=DURATION:PT1H
X-Robots-Tag:noindex
X-PUBLISHED-TTL:PT1H
BEGIN:VTIMEZONE
TZID:Europe/Berlin
BEGIN:DAYLIGHT
TZOFFSETFROM:+0100
TZOFFSETTO:+0200
TZNAME:CEST
DTSTART:20260329T010000
END:DAYLIGHT
BEGIN:STANDARD
TZOFFSETFROM:+0200
TZOFFSETTO:+0100
TZNAME:CET
DTSTART:20261025T010000
END:STANDARD
END:VTIMEZONE
BEGIN:VEVENT
DTSTART;TZID=Europe/Berlin:20260512T090000
DTEND;TZID=Europe/Berlin:20260512T143000
DTSTAMP:20260425T191529
CREATED:20260415T174241Z
LAST-MODIFIED:20260415T175218Z
UID:10272-1778576400-1778596200@www.eglcc.eu
SUMMARY:Leaders for Change 2026 – Milan
DESCRIPTION:Leaders for Change 2026 returns eleven years after its first historic edition. Organized by EDGE and the European Pride Business Network (EPBN) in collaboration with the Comune di Milano\, this high-level international conference explores the role of Diversity\, Equity\, and Inclusion (DEI) as a driver of economic growth\, sustainable competitiveness\, and social democracy. \nThe Milan edition will bring together representatives from European and national institutions\, businesses\, civil society\, and academia to reflect on current challenges and future pathways for inclusive policies\, in alignment with the EU LGBTQIA+ Strategy 2026-2030. \nDiscover the agenda here.
URL:https://www.eglcc.eu/it/event/leaders-for-change-2026-milan/
LOCATION:Palazzo Marino\, Sala Alessi\, Palazzo Marino\, Sala Alessi\, Milan\, Italy
ORGANIZER;CN="EDGE":MAILTO:info@edge-glbt.it
END:VEVENT
END:VCALENDAR