BEGIN:VCALENDAR
VERSION:2.0
PRODID:-//EGLCC - ECPv6.14.2//NONSGML v1.0//EN
CALSCALE:GREGORIAN
METHOD:PUBLISH
X-ORIGINAL-URL:https://www.eglcc.eu/it/
X-WR-CALDESC:Eventi per EGLCC
REFRESH-INTERVAL;VALUE=DURATION:PT1H
X-Robots-Tag:noindex
X-PUBLISHED-TTL:PT1H
BEGIN:VTIMEZONE
TZID:Europe/Berlin
BEGIN:DAYLIGHT
TZOFFSETFROM:+0100
TZOFFSETTO:+0200
TZNAME:CEST
DTSTART:20260329T010000
END:DAYLIGHT
BEGIN:STANDARD
TZOFFSETFROM:+0200
TZOFFSETTO:+0100
TZNAME:CET
DTSTART:20261025T010000
END:STANDARD
END:VTIMEZONE
BEGIN:VEVENT
DTSTART;TZID=Europe/Berlin:20260418T183000
DTEND;TZID=Europe/Berlin:20260418T200000
DTSTAMP:20260425T191531
CREATED:20260415T175556Z
LAST-MODIFIED:20260415T181629Z
UID:10288-1776537000-1776542400@www.eglcc.eu
SUMMARY:EDGE Aperitif – Milan
DESCRIPTION:The EDGE community gathers once again in Milan for an informal networking moment. This aperitif offers a relaxed setting to exchange updates on ongoing projects\, strengthen connections\, and engage with fellow members.
URL:https://www.eglcc.eu/it/event/edge-aperitif-milan/
LOCATION:BASE Milano (Via Bergognone\, 34)\, BASE Milano (Via Bergognone\, 34)\, Milan\, Italy
ORGANIZER;CN="EDGE":MAILTO:info@edge-glbt.it
END:VEVENT
END:VCALENDAR