BEGIN:VCALENDAR
VERSION:2.0
PRODID:-//EGLCC - ECPv6.14.2//NONSGML v1.0//EN
CALSCALE:GREGORIAN
METHOD:PUBLISH
X-ORIGINAL-URL:https://www.eglcc.eu/it/
X-WR-CALDESC:Eventi per EGLCC
REFRESH-INTERVAL;VALUE=DURATION:PT1H
X-Robots-Tag:noindex
X-PUBLISHED-TTL:PT1H
BEGIN:VTIMEZONE
TZID:Europe/Berlin
BEGIN:DAYLIGHT
TZOFFSETFROM:+0100
TZOFFSETTO:+0200
TZNAME:CEST
DTSTART:20260329T010000
END:DAYLIGHT
BEGIN:STANDARD
TZOFFSETFROM:+0200
TZOFFSETTO:+0100
TZNAME:CET
DTSTART:20261025T010000
END:STANDARD
END:VTIMEZONE
BEGIN:VEVENT
DTSTART;TZID=Europe/Berlin:20260416T170000
DTEND;TZID=Europe/Berlin:20260416T200000
DTSTAMP:20260425T191532
CREATED:20260415T180337Z
LAST-MODIFIED:20260415T181708Z
UID:10291-1776358800-1776369600@www.eglcc.eu
SUMMARY:REDI to Connect Employees
DESCRIPTION:REDI to Connect Employees returns as one of the most anticipated events for LGBTIQ professionals and allies in Spain. Designed as a collaborative space\, the event brings together employees from leading companies to exchange insights\, share best practices\, and drive meaningful change within organizations. \nMore than a networking event\, this initiative reflects REDI’s belief that inclusion is not a slogan but a core element of company culture\, strategy\, and talent development. \nThis edition is led by professionals from Amadeus\, AXA\, Deloitte\, and Repsol\, and hosted by WPP\, a global leader in creativity and communication. The program will explore how diversity fosters innovation and transforms relationships between brands and people. \nParticipants will also gain insights into ongoing working groups and projects shaping the future of LGBTI inclusion in the workplace. \nThis is an exclusive event for REDI member companies.
URL:https://www.eglcc.eu/it/event/redi-to-connect-employees/
LOCATION:C. De Ríos Rosas 26\, Madrid\, C. De Ríos Rosas 26\, Madrid\, Spain
ORGANIZER;CN="REDI":MAILTO:contacto@redi-lgbti.org
END:VEVENT
END:VCALENDAR