BEGIN:VCALENDAR
VERSION:2.0
PRODID:-//EGLCC - ECPv6.14.2//NONSGML v1.0//EN
CALSCALE:GREGORIAN
METHOD:PUBLISH
X-WR-CALNAME:EGLCC
X-ORIGINAL-URL:https://www.eglcc.eu/fr/
X-WR-CALDESC:Évènements pour EGLCC
REFRESH-INTERVAL;VALUE=DURATION:PT1H
X-Robots-Tag:noindex
X-PUBLISHED-TTL:PT1H
BEGIN:VTIMEZONE
TZID:Europe/Berlin
BEGIN:DAYLIGHT
TZOFFSETFROM:+0100
TZOFFSETTO:+0200
TZNAME:CEST
DTSTART:20260329T010000
END:DAYLIGHT
BEGIN:STANDARD
TZOFFSETFROM:+0200
TZOFFSETTO:+0100
TZNAME:CET
DTSTART:20261025T010000
END:STANDARD
END:VTIMEZONE
BEGIN:VEVENT
DTSTART;TZID=Europe/Berlin:20260605T090000
DTEND;TZID=Europe/Berlin:20260605T143000
DTSTAMP:20260425T221633
CREATED:20260415T174724Z
LAST-MODIFIED:20260415T175307Z
UID:10277-1780650000-1780669800@www.eglcc.eu
SUMMARY:Leaders for Change 2026 – Rome
DESCRIPTION:Leaders for Change 2026 returns eleven years after its first historic edition. Organized by EDGE and the European Pride Business Network (EPBN)\, in collaboration with the Comune di Roma\, this high-level international conference explores the role of Diversity\, Equity\, and Inclusion (DEI) as a driver of economic growth\, sustainable competitiveness\, and social democracy. \nFollowing the Milan conference\, Leaders for Change 2026 continues in Rome to continue the discussion with a focus on translating inclusive values into concrete actions and measurable impact at local\, national\, and European levels. The event will gather key stakeholders to address the role of DEI in strengthening democratic resilience\, social justice\, and sustainable growth. \nDiscover the agenda here.
URL:https://www.eglcc.eu/fr/event/leaders-for-change-2026-rome/
LOCATION:Palazzo del Campidoglio\, Sala della Protomoteca\, Palazzo del Campidoglio\, Sala della Protomoteca\, Rome\, Italy
ORGANIZER;CN="EDGE":MAILTO:info@edge-glbt.it
END:VEVENT
END:VCALENDAR