BEGIN:VCALENDAR
VERSION:2.0
PRODID:-//EGLCC - ECPv6.14.2//NONSGML v1.0//EN
CALSCALE:GREGORIAN
METHOD:PUBLISH
X-WR-CALNAME:EGLCC
X-ORIGINAL-URL:https://www.eglcc.eu/fr/
X-WR-CALDESC:Évènements pour EGLCC
REFRESH-INTERVAL;VALUE=DURATION:PT1H
X-Robots-Tag:noindex
X-PUBLISHED-TTL:PT1H
BEGIN:VTIMEZONE
TZID:Europe/Berlin
BEGIN:DAYLIGHT
TZOFFSETFROM:+0100
TZOFFSETTO:+0200
TZNAME:CEST
DTSTART:20260329T010000
END:DAYLIGHT
BEGIN:STANDARD
TZOFFSETFROM:+0200
TZOFFSETTO:+0100
TZNAME:CET
DTSTART:20261025T010000
END:STANDARD
END:VTIMEZONE
BEGIN:VEVENT
DTSTART;TZID=Europe/Berlin:20260326T110000
DTEND;TZID=Europe/Berlin:20260326T114500
DTSTAMP:20260425T212155
CREATED:20260210T202223Z
LAST-MODIFIED:20260212T125120Z
UID:10142-1774522800-1774525500@www.eglcc.eu
SUMMARY:Supply to Corporates: Ask & Apply
DESCRIPTION:  \n \nAfter the sold-out Procurement Readiness Webinar with ESDP and Andrea Pieroni\, Procurement Executive & Consultant\, we’re back with an exclusive power session designed to help minority-owned businesses navigate real-life situations when engaging with corporates. \n\nIn this 45-minute session\, Andrea will focus on the nitty-gritty\, practical aspects. Expect case studies\, real-life scenarios\, and plenty of Q&A time on topics such as how to respond to RFIs/RFPs with confidence\, how to position your value proposition effectively\, navigate corporate procurement decisions\, and practical strategies to make your offering more competitive. \n\n\n\n\n\n\nThe session is exclusive to the EGLCC & ESDP networks and other minority-owned businesses. Space is limited\, secure your spot today.
URL:https://www.eglcc.eu/fr/event/supply-to-corporates-ask-apply/
LOCATION:Online
ORGANIZER;CN="EGLCC":MAILTO:Info@eglcc.eu
END:VEVENT
END:VCALENDAR