BEGIN:VCALENDAR
VERSION:2.0
PRODID:-//EGLCC - ECPv6.14.2//NONSGML v1.0//EN
CALSCALE:GREGORIAN
METHOD:PUBLISH
X-ORIGINAL-URL:https://www.eglcc.eu/fr/
X-WR-CALDESC:Évènements pour EGLCC
REFRESH-INTERVAL;VALUE=DURATION:PT1H
X-Robots-Tag:noindex
X-PUBLISHED-TTL:PT1H
BEGIN:VTIMEZONE
TZID:Europe/Berlin
BEGIN:DAYLIGHT
TZOFFSETFROM:+0100
TZOFFSETTO:+0200
TZNAME:CEST
DTSTART:20250330T010000
END:DAYLIGHT
BEGIN:STANDARD
TZOFFSETFROM:+0200
TZOFFSETTO:+0100
TZNAME:CET
DTSTART:20251026T010000
END:STANDARD
END:VTIMEZONE
BEGIN:VEVENT
DTSTART;TZID=Europe/Berlin:20251014T183000
DTEND;TZID=Europe/Berlin:20251014T203000
DTSTAMP:20260426T020047
CREATED:20251014T175221Z
LAST-MODIFIED:20251014T175221Z
UID:9977-1760466600-1760473800@www.eglcc.eu
SUMMARY:Monthly Aperitif Networking Rome
DESCRIPTION:Language: Italian\, English \nFormat: In person \n  \nInformal networking & updates on EDGE activities \n 
URL:https://www.eglcc.eu/fr/event/monthly-aperitif-networking-rome/
LOCATION:The Saba Café\, Via di San Saba 30\, Rome\, Italy
END:VEVENT
BEGIN:VEVENT
DTSTART;TZID=Europe/Berlin:20251015T183000
DTEND;TZID=Europe/Berlin:20251015T203000
DTSTAMP:20260426T020047
CREATED:20251014T175419Z
LAST-MODIFIED:20251014T175419Z
UID:9982-1760553000-1760560200@www.eglcc.eu
SUMMARY:Monthly Aperitif Networking Milan
DESCRIPTION:Language: Italian\, English \nFormat: In person \n  \nInformal networking & updates on EDGE activities
URL:https://www.eglcc.eu/fr/event/monthly-aperitif-networking-milan/
LOCATION:Veritas Bistrot\, Via Augusto Anfossi 2\, Milan\, Italy
END:VEVENT
BEGIN:VEVENT
DTSTART;TZID=Europe/Berlin:20251016T110000
DTEND;TZID=Europe/Berlin:20251016T140000
DTSTAMP:20260426T020047
CREATED:20251014T181016Z
LAST-MODIFIED:20251014T181016Z
UID:10002-1760612400-1760623200@www.eglcc.eu
SUMMARY:Negotiated Plans for Inclusion and Equality in Companies for LGBTI Groups
DESCRIPTION:Language: Spanish \nFormat: Hybrid \nThe conference “Negotiated Plans for Inclusion and Equality in Companies for LGBTI Groups”\, is organized by the EdeNE Business Negotiation School (CEOE) in collaboration with REDI and Foment del Treball Nacional. The key focus is on Law 4/2023\, its regulations\, implementation\, and development.
URL:https://www.eglcc.eu/fr/event/negotiated-plans-for-inclusion-and-equality-in-companies-for-lgbti-groups/
LOCATION:Via Laietana 32\, Via Laietana 32\, Barcelona\, Spain
ORGANIZER;CN="REDI":MAILTO:contacto@redi-lgbti.org
END:VEVENT
BEGIN:VEVENT
DTSTART;VALUE=DATE:20251028
DTEND;VALUE=DATE:20251029
DTSTAMP:20260426T020047
CREATED:20251014T180228Z
LAST-MODIFIED:20251014T180410Z
UID:9992-1761609600-1761695999@www.eglcc.eu
SUMMARY:Boosting LGBTIQ Employability in Spain
DESCRIPTION:Language: Spanish \nFormat: In Person \nLaunch of strategy promoting LGBTIQ employability. REDI and myGwork – LGBTQ+ Business Community join forces to launch a joint strategy to promote LGBTIQ employability. The strategy includes practical tools for attracting diverse talent\, an LGBTIQ Social Impact Job Bank\, and training on inclusive selection and recruitment processes. This event is designed for professionals in HR\, Talent Attraction\, Labor Relations\, and DEI\, as well as anyone interested in advancing workplace inclusion. The event is supported by the Ilustre Colegio de la Abogacía de Madrid (ICAM) and the ICAM LGBTI+ Committee. The employment exchange is supported by Fundación ONCE / Inserta and Fundación Legálitas. \n 
URL:https://www.eglcc.eu/fr/event/redi-madrid-2025-academy/
LOCATION:ICAM Headquarters Madrid\, 9 Calle de Serrrano\, Madrid\, 28001\, Spain
ORGANIZER;CN="REDI":MAILTO:contacto@redi-lgbti.org
END:VEVENT
END:VCALENDAR