BEGIN:VCALENDAR
VERSION:2.0
PRODID:-//EGLCC - ECPv6.14.2//NONSGML v1.0//EN
CALSCALE:GREGORIAN
METHOD:PUBLISH
X-ORIGINAL-URL:https://www.eglcc.eu/fr/
X-WR-CALDESC:Évènements pour EGLCC
REFRESH-INTERVAL;VALUE=DURATION:PT1H
X-Robots-Tag:noindex
X-PUBLISHED-TTL:PT1H
BEGIN:VTIMEZONE
TZID:Europe/Berlin
BEGIN:DAYLIGHT
TZOFFSETFROM:+0100
TZOFFSETTO:+0200
TZNAME:CEST
DTSTART:20250330T010000
END:DAYLIGHT
BEGIN:STANDARD
TZOFFSETFROM:+0200
TZOFFSETTO:+0100
TZNAME:CET
DTSTART:20251026T010000
END:STANDARD
END:VTIMEZONE
BEGIN:VEVENT
DTSTART;TZID=Europe/Berlin:20251120T113000
DTEND;TZID=Europe/Berlin:20251120T223000
DTSTAMP:20260426T025943
CREATED:20251014T180720Z
LAST-MODIFIED:20251014T180720Z
UID:9997-1763638200-1763677800@www.eglcc.eu
SUMMARY:REDI Madrid 2025 Academy
DESCRIPTION:Language: Spanish \nFormat: In Person \nTraining and networking day combining workshops\, practical training\, and regulatory compliance for companies. \nNote: Open to associates; cocktail open to public upon confirmation
URL:https://www.eglcc.eu/fr/event/redi-madrid-2025-academy-2/
LOCATION:Espacio Ventas\, Calle de Alcalá\, 182\, Madrid\, Spain
END:VEVENT
END:VCALENDAR