BEGIN:VCALENDAR
VERSION:2.0
PRODID:-//EGLCC - ECPv6.14.2//NONSGML v1.0//EN
CALSCALE:GREGORIAN
METHOD:PUBLISH
X-WR-CALNAME:EGLCC
X-ORIGINAL-URL:https://www.eglcc.eu/fr/
X-WR-CALDESC:Évènements pour EGLCC
REFRESH-INTERVAL;VALUE=DURATION:PT1H
X-Robots-Tag:noindex
X-PUBLISHED-TTL:PT1H
BEGIN:VTIMEZONE
TZID:Europe/Berlin
BEGIN:DAYLIGHT
TZOFFSETFROM:+0100
TZOFFSETTO:+0200
TZNAME:CEST
DTSTART:20250330T010000
END:DAYLIGHT
BEGIN:STANDARD
TZOFFSETFROM:+0200
TZOFFSETTO:+0100
TZNAME:CET
DTSTART:20251026T010000
END:STANDARD
END:VTIMEZONE
BEGIN:VEVENT
DTSTART;TZID=Europe/Berlin:20251111T183000
DTEND;TZID=Europe/Berlin:20251111T203000
DTSTAMP:20260426T015957
CREATED:20251126T145152Z
LAST-MODIFIED:20251126T145152Z
UID:10080-1762885800-1762893000@www.eglcc.eu
SUMMARY:Monthly Aperitif Networking Rome
DESCRIPTION:Language: Italian\, English \nFormat: In-person \nMonthly gathering to deepen professional relationships and present ongoing and future EDGE projects.
URL:https://www.eglcc.eu/fr/event/monthly-aperitif-networking-rome-2/
LOCATION:Via di San Saba 30-32\, Via di San Saba 30-32\, Rome\, Italy
ORGANIZER;CN="EDGE":MAILTO:info@edge-glbt.it
END:VEVENT
END:VCALENDAR