BEGIN:VCALENDAR
VERSION:2.0
PRODID:-//EGLCC - ECPv6.14.2//NONSGML v1.0//EN
CALSCALE:GREGORIAN
METHOD:PUBLISH
X-WR-CALNAME:EGLCC
X-ORIGINAL-URL:https://www.eglcc.eu/fr/
X-WR-CALDESC:Évènements pour EGLCC
REFRESH-INTERVAL;VALUE=DURATION:PT1H
X-Robots-Tag:noindex
X-PUBLISHED-TTL:PT1H
BEGIN:VTIMEZONE
TZID:Europe/Berlin
BEGIN:DAYLIGHT
TZOFFSETFROM:+0100
TZOFFSETTO:+0200
TZNAME:CEST
DTSTART:20250330T010000
END:DAYLIGHT
BEGIN:STANDARD
TZOFFSETFROM:+0200
TZOFFSETTO:+0100
TZNAME:CET
DTSTART:20251026T010000
END:STANDARD
END:VTIMEZONE
BEGIN:VEVENT
DTSTART;TZID=Europe/Berlin:20251014T183000
DTEND;TZID=Europe/Berlin:20251014T203000
DTSTAMP:20260426T025534
CREATED:20251014T175221Z
LAST-MODIFIED:20251014T175221Z
UID:9977-1760466600-1760473800@www.eglcc.eu
SUMMARY:Monthly Aperitif Networking Rome
DESCRIPTION:Language: Italian\, English \nFormat: In person \n  \nInformal networking & updates on EDGE activities \n 
URL:https://www.eglcc.eu/fr/event/monthly-aperitif-networking-rome/
LOCATION:The Saba Café\, Via di San Saba 30\, Rome\, Italy
END:VEVENT
END:VCALENDAR