BEGIN:VCALENDAR
VERSION:2.0
PRODID:-//EGLCC - ECPv6.14.2//NONSGML v1.0//EN
CALSCALE:GREGORIAN
METHOD:PUBLISH
X-WR-CALNAME:EGLCC
X-ORIGINAL-URL:https://www.eglcc.eu/fr/
X-WR-CALDESC:Évènements pour EGLCC
REFRESH-INTERVAL;VALUE=DURATION:PT1H
X-Robots-Tag:noindex
X-PUBLISHED-TTL:PT1H
BEGIN:VTIMEZONE
TZID:Europe/Berlin
BEGIN:DAYLIGHT
TZOFFSETFROM:+0100
TZOFFSETTO:+0200
TZNAME:CEST
DTSTART:20250330T010000
END:DAYLIGHT
BEGIN:STANDARD
TZOFFSETFROM:+0200
TZOFFSETTO:+0100
TZNAME:CET
DTSTART:20251026T010000
END:STANDARD
END:VTIMEZONE
BEGIN:VEVENT
DTSTART;VALUE=DATE:20250924
DTEND;VALUE=DATE:20250925
DTSTAMP:20260426T035844
CREATED:20251014T183332Z
LAST-MODIFIED:20251014T183332Z
UID:10027-1758672000-1758758399@www.eglcc.eu
SUMMARY:Online Training on LGBTI Diversity & Inclusion (Law 4/2023 compliance)
DESCRIPTION:Language: Spanish \nFormat: Online \nThe new regulations on equality and non-discrimination of LGBTI people in companies (established by Law 4/2023 and Royal Decree 1026/2024) oblige all companies with more than 50 workers to provide training to their staff on the rights of LGBTIQ people in the workplace. \nIn response to this requirement\, we have developed the online courses:\n1) LGBTI Diversity and Inclusion in the company. Basic concepts\n2) Concepts and management of LGBTIQ diversity and inclusion in the company (HR\, D&I\, CSR\, and ERGs) \nThese programs have been developed with REDI’s content and pedagogically designed and virtualized by ALKU GESTION DE FORMACION. \nTo register\, please contact the organizer.
URL:https://www.eglcc.eu/fr/event/online-training-on-lgbti-diversity-inclusion-law-4-2023-compliance/
END:VEVENT
END:VCALENDAR