BEGIN:VCALENDAR
VERSION:2.0
PRODID:-//EGLCC - ECPv6.14.2//NONSGML v1.0//EN
CALSCALE:GREGORIAN
METHOD:PUBLISH
X-ORIGINAL-URL:https://www.eglcc.eu/fr/
X-WR-CALDESC:Évènements pour EGLCC
REFRESH-INTERVAL;VALUE=DURATION:PT1H
X-Robots-Tag:noindex
X-PUBLISHED-TTL:PT1H
BEGIN:VTIMEZONE
TZID:Europe/Berlin
BEGIN:DAYLIGHT
TZOFFSETFROM:+0100
TZOFFSETTO:+0200
TZNAME:CEST
DTSTART:20250330T010000
END:DAYLIGHT
BEGIN:STANDARD
TZOFFSETFROM:+0200
TZOFFSETTO:+0100
TZNAME:CET
DTSTART:20251026T010000
END:STANDARD
END:VTIMEZONE
BEGIN:VEVENT
DTSTART;TZID=Europe/Berlin:20250921T170000
DTEND;TZID=Europe/Berlin:20250921T180000
DTSTAMP:20260426T035955
CREATED:20251014T182420Z
LAST-MODIFIED:20251014T182436Z
UID:10014-1758474000-1758477600@www.eglcc.eu
SUMMARY:Inclusive Spaces: Between Community\, Business & Well-being
DESCRIPTION:Language: Italian \nFormat: In-Person \nThe Talk\, organized by Mix Festival in collaboration with EDGE\, will be a lively dialogue between concrete experiences of openness free from stereotypes and discrimination\, social planning\, and personal growth. \nSpeakekrs: Enrico Buongrazio\, Salvatore Aloe\, Virginia Barbaro\, Moderator: Jonathan Zenti
URL:https://www.eglcc.eu/fr/event/inclusive-spaces-between-community-business-well-being/
LOCATION:EuroLab Space\, Piccolo Strehler Theatre\, Largo Greppi 1\, Milano\, Italy
END:VEVENT
END:VCALENDAR