BEGIN:VCALENDAR
VERSION:2.0
PRODID:-//EGLCC - ECPv6.14.2//NONSGML v1.0//EN
CALSCALE:GREGORIAN
METHOD:PUBLISH
X-WR-CALNAME:EGLCC
X-ORIGINAL-URL:https://www.eglcc.eu/fr/
X-WR-CALDESC:Évènements pour EGLCC
REFRESH-INTERVAL;VALUE=DURATION:PT1H
X-Robots-Tag:noindex
X-PUBLISHED-TTL:PT1H
BEGIN:VTIMEZONE
TZID:Europe/Berlin
BEGIN:DAYLIGHT
TZOFFSETFROM:+0100
TZOFFSETTO:+0200
TZNAME:CEST
DTSTART:20250330T010000
END:DAYLIGHT
BEGIN:STANDARD
TZOFFSETFROM:+0200
TZOFFSETTO:+0100
TZNAME:CET
DTSTART:20251026T010000
END:STANDARD
END:VTIMEZONE
BEGIN:VEVENT
DTSTART;TZID=Europe/Berlin:20250918T180000
DTEND;TZID=Europe/Berlin:20250918T210000
DTSTAMP:20260426T035900
CREATED:20251014T183727Z
LAST-MODIFIED:20251014T183727Z
UID:10033-1758218400-1758229200@www.eglcc.eu
SUMMARY:REDI to Connect Employees: Diverse Skies
DESCRIPTION:Language: Spanish \nFormat: In person \nExperience a unique experience powered by Airbus and the RTCE community\, where we will explore the skies and the historical milestones of the LGBTI community through an immersive projection that promises to surprise.
URL:https://www.eglcc.eu/fr/event/redi-to-connect-employees-diverse-skies/
LOCATION:Madrid Planetarium\, Tiermo Galván Park\, Madrid\, Spain
END:VEVENT
BEGIN:VEVENT
DTSTART;TZID=Europe/Berlin:20250918T190000
DTEND;TZID=Europe/Berlin:20250918T210000
DTSTAMP:20260426T035900
CREATED:20251014T182902Z
LAST-MODIFIED:20251014T182902Z
UID:10019-1758222000-1758229200@www.eglcc.eu
SUMMARY:Philosophical Practice: Resistance & Power
DESCRIPTION:Language: Italian \nFormat: In person \nGroup reflection on power\, resistance\, awareness; curated by Riccardo Basso \nRegister under info@edge-glbt.it before September 16\, 2025.
URL:https://www.eglcc.eu/fr/event/philosophical-practice-resistance-power/
LOCATION:Testaccio Area\, Address sent after registration.\, Rome\, Italy
END:VEVENT
END:VCALENDAR