BEGIN:VCALENDAR
VERSION:2.0
PRODID:-//EGLCC - ECPv6.14.2//NONSGML v1.0//EN
CALSCALE:GREGORIAN
METHOD:PUBLISH
X-WR-CALNAME:EGLCC
X-ORIGINAL-URL:https://www.eglcc.eu/es/
X-WR-CALDESC:Eventos para EGLCC
REFRESH-INTERVAL;VALUE=DURATION:PT1H
X-Robots-Tag:noindex
X-PUBLISHED-TTL:PT1H
BEGIN:VTIMEZONE
TZID:Europe/Berlin
BEGIN:DAYLIGHT
TZOFFSETFROM:+0100
TZOFFSETTO:+0200
TZNAME:CEST
DTSTART:20260329T010000
END:DAYLIGHT
BEGIN:STANDARD
TZOFFSETFROM:+0200
TZOFFSETTO:+0100
TZNAME:CET
DTSTART:20261025T010000
END:STANDARD
END:VTIMEZONE
BEGIN:VEVENT
DTSTART;TZID=Europe/Berlin:20260529T090000
DTEND;TZID=Europe/Berlin:20260529T230000
DTSTAMP:20260425T201316
CREATED:20260415T181340Z
LAST-MODIFIED:20260415T181340Z
UID:10297-1780045200-1780095600@www.eglcc.eu
SUMMARY:EPBN - WISE Conference & Awards: Protect Workplace Inclusion in Europe
DESCRIPTION:With nearly 40 million LGBTIQ people across Europe\, inclusion represents not only a core value but also a powerful driver of business performance and resilience. \nEGLCC is proud to highlight this initiative from our Italian Chamber EDGE and partner organization EPBN: the WISE Conference & Awards – Protect Workplace Inclusion in Europe. \nThis full-day international event will bring together more than 300 leaders from across Europe to explore the connection between inclusion\, leadership\, and economic resilience. The program will feature high-level discussions\, practical workshops\, and inspiring examples of role models shaping more inclusive workplaces. \nThe day will conclude with a Gala Awards Ceremony celebrating outstanding contributions to workplace inclusion.
URL:https://www.eglcc.eu/es/event/epbn-wise-conference-awards-protect-workplace-inclusion-in-europe/
LOCATION:Hilton Hotel Prague\, Pobřežní 311/1\, Prague\, 18600\, Czech Republic
ORGANIZER;CN="EDGE":MAILTO:info@edge-glbt.it
END:VEVENT
END:VCALENDAR